BEGIN:VCALENDAR
VERSION:2.0
PRODID:-//Sunshine Real Estate Academy - ECPv6.15.16//NONSGML v1.0//EN
CALSCALE:GREGORIAN
METHOD:PUBLISH
X-WR-CALNAME:Sunshine Real Estate Academy
X-ORIGINAL-URL:https://sunshinerealestateacademy.com
X-WR-CALDESC:Events for Sunshine Real Estate Academy
REFRESH-INTERVAL;VALUE=DURATION:PT1H
X-Robots-Tag:noindex
X-PUBLISHED-TTL:PT1H
BEGIN:VTIMEZONE
TZID:UTC
BEGIN:STANDARD
TZOFFSETFROM:+0000
TZOFFSETTO:+0000
TZNAME:UTC
DTSTART:20250101T000000
END:STANDARD
END:VTIMEZONE
BEGIN:VEVENT
DTSTART;TZID=UTC:20260327T080000
DTEND;TZID=UTC:20260427T170000
DTSTAMP:20260421T180710
CREATED:20250304T031217Z
LAST-MODIFIED:20260103T210842Z
UID:447-1774598400-1777309200@sunshinerealestateacademy.com
SUMMARY:Career Fairs
DESCRIPTION:Are you ready to be your own boss? At Sunshine Real Estate Academy\, we don’t just teach you how to pass the exam; we show you how to build a business. Join us to learn about our fast-track licensing programs\, mentorship opportunities\, and the unmatched culture that makes us the sunniest place to work in real estate. Your future starts here.
URL:https://sunshinerealestateacademy.com/event/career-fairs/
LOCATION:New York\, 8 King Street\, Queens\, NY\, 10002\, United States
CATEGORIES:Seminars
ATTACH;FMTTYPE=image/jpeg:https://sunshinerealestateacademy.com/wp-content/uploads/2021/03/unnamed.jpg
ORGANIZER;CN="Gary Jones":MAILTO:halpes@example.com
END:VEVENT
BEGIN:VEVENT
DTSTART;TZID=UTC:20260306T080000
DTEND;TZID=UTC:20260306T170000
DTSTAMP:20260421T180710
CREATED:20260306T191406Z
LAST-MODIFIED:20260306T191406Z
UID:3128-1772784000-1772816400@sunshinerealestateacademy.com
SUMMARY:Exam Prep Workshop
DESCRIPTION:
URL:https://sunshinerealestateacademy.com/event/exam-prep-workshop/
LOCATION:Florida\, United States
CATEGORIES:Seminars
ATTACH;FMTTYPE=image/jpeg:https://sunshinerealestateacademy.com/wp-content/uploads/2026/03/classmates-studying-library_23-2147678963.jpg
END:VEVENT
END:VCALENDAR